BEGIN:VCALENDAR
VERSION:2.0
PRODID:-//www.arkpublichealth.org//NONSGML kigkonsult.se iCalcreator 2.30.1
 0//
CALSCALE:GREGORIAN
METHOD:PUBLISH
UID:e73d260e-db3e-4bfb-a233-533b6a628378
X-WR-CALDESC:Get ready to join the movement!\nNational Public Health Week 2
 020 is fast approaching! \n\n
X-WR-RELCALID:a364e7d5babae45fbf6890b220d047fe
X-WR-TIMEZONE:America/Chicago
BEGIN:VTIMEZONE
TZID:America/Chicago
BEGIN:STANDARD
TZNAME:CST
DTSTART:20191103T020000
TZOFFSETFROM:-0500
TZOFFSETTO:-0600
RDATE:20201101T020000
END:STANDARD
BEGIN:DAYLIGHT
TZNAME:CDT
DTSTART:20200308T020000
TZOFFSETFROM:-0600
TZOFFSETTO:-0500
RDATE:20210314T020000
END:DAYLIGHT
END:VTIMEZONE
BEGIN:VEVENT
UID:9d1627ae-37b8-4406-82cd-f4d8fb10c66b
DTSTAMP:20260419T123014Z
DESCRIPTION:Get ready to join the movement!\nNational Public Health Week 20
 20 is fast approaching! \n\n
DTSTART;TZID=America/Chicago:20200406T000000
DTEND;TZID=America/Chicago:20200412T235900
LOCATION:
SUMMARY:National Public Health Week @25: Looking Back\, Moving Forward
END:VEVENT
END:VCALENDAR
